Workbook

Sheet Kräfte
A1: ! Nutzung auf eigene Gefahr ! | C1: ! Achtung ! Die Berechnung mit der Taylor-Formel ist mathematisch-physikalisch nicht korrekt, funktioniert aber für die Praxis.
A2: In alle gelb gefärbten Felder können Werte eingetragen werden
A3: Taylor-Formel: F∼m*f²*l² | B3: ! m=F/(f²*l²) | D3: Pirastro gibt 5/4 Mensur mit 114 cm an. | H3: D’addario gibt die ¾ Mensur mit 106 cm an.
A4: Kammerton (Herstellerangabe) in Hz: | B4: 440 | D4: Pirastro gibt ¾ Mensur mit 106 cm an. | H4: Corelli/Savarez gibt die Spannung bei 104 cm an.
A5: Kammerton (Eigener) in Hz: | B5: 440 | D5: Thomastik gibt die ¾ Mensur mit 104 cm an.
A6: Schwingende Saitenlänge (cm) Herstellerangabe | B6: 106 | D6: Thomastik gibt die 4/4 Mensur mit 110 cm an.
A7: Schwingende Saitenlänge (cm) Instrument | B7: 105 | D7: Jargar gibt 4/4 Mensur mit 110 cm an.
B9: B² | C9: C¹ (Ø extension!) | D9: A¹ [solo H¹] | E9: E¹ [solo F#¹] | F9: D [solo E] | G9: G [solo A]
A10: Saitenwinkel über Steg in ° | B10: 33 | C10: 33 | D10: 33 | E10: 33 | F10: 33 | G10: 33
A13: Änderung der Saitenlänge
A14: Saite | B14: B² | C14: C¹ (Ø extension!) | D14: E¹ [solo F#¹] | E14: A¹ [solo H¹] | F14: D [solo E] | G14: G [solo A] | H14: Σ
A15: Ausgangswert bzw. Herstellerangabe (daN bzw. kg) | B15: 0 | C15: 0 | D15: 0 | E15: 0 | F15: 0 | G15: 0 | H15: =SUM(B15:G15) -> 0
A16: Neuer Wert in daN bzw. kg | B16: =(B15/(Frequenzen!B8^2*B6^2))*Frequenzen!B23^2*B7^2 -> 0 | C16: =(C15/(Frequenzen!B9^2*B6^2))*Frequenzen!B24^2*B7^2 -> 0 | D16: =(D15/(Frequenzen!B13^2*B6^2))*Frequenzen!B28^2*B7^2 -> 0 | E16: =(E15/(Frequenzen!B18^2*B6^2))*Frequenzen!B33^2*B7^2 -> 0 | F16: =(F15/(Frequenzen!D11^2*B6^2))*Frequenzen!D26^2*B7^2 -> 0 | G16: =(G15/(Frequenzen!D16^2*B6^2))*Frequenzen!D31^2*B7^2 -> 0 | H16: =SUM(B16:G16) -> 0
A17: Kraft ↓ auf Decke in daN (Ausgangswert) | B17: =(B15*SIN(B10*3.1415/180))/(SIN((90-B10)*3.1415/180)) -> 0 | C17: =(C15*SIN(C10*3.1415/180))/(SIN((90-C10)*3.1415/180)) -> 0 | D17: =(D15*SIN(D10*3.1415/180))/(SIN((90-D10)*3.1415/180)) -> 0 | E17: =(E15*SIN(E10*3.1415/180))/(SIN((90-E10)*3.1415/180)) -> 0 | F17: =(F15*SIN(F10*3.1415/180))/(SIN((90-F10)*3.1415/180)) -> 0 | G17: =(G15*SIN(G10*3.1415/180))/(SIN((90-G10)*3.1415/180)) -> 0 | H17: =SUM(B17:G17) -> 0
A18: Kraft ↓ auf Decke in daN (neuer Wert) | B18: =(G16*SIN(B10*3.1415/180))/(SIN((90-B10)*3.1415/180)) -> 0 | C18: =(F16*SIN(C10*3.1415/180))/(SIN((90-C10)*3.1415/180)) -> 0 | D18: =(E16*SIN(D10*3.1415/180))/(SIN((90-D10)*3.1415/180)) -> 0 | E18: =(D16*SIN(E10*3.1415/180))/(SIN((90-E10)*3.1415/180)) -> 0 | F18: =(C16*SIN(F10*3.1415/180))/(SIN((90-F10)*3.1415/180)) -> 0 | G18: =(B16*SIN(G10*3.1415/180))/(SIN((90-G10)*3.1415/180)) -> 0 | H18: =SUM(B18:G18) -> 0
A21: Transposition Solo ► Orchester (Änderung der Saitenlänge ist möglich)
A22: Saite | B22: F#¹ ► E¹ | C22: B¹ ► A¹ | D22: E ► D | E22: A ► G | F22: Σ
A23: Ausgangswert bzw. Herstellerangabe (daN bzw. kg) | B23: 0 | C23: 0 | D23: 0 | E23: 0 | F23: =SUM(B23:E23) -> 0
A24: Neuer Wert in daN bzw. kg, Transponiert auf Orchesterstimmung | B24: =(B23/(Frequenzen!B15^2*B6^2)*Frequenzen!B28^2*B7^2) -> 0 | C24: =(C23/(Frequenzen!B20^2*B6^2)*Frequenzen!B33^2*B7^2) -> 0 | D24: =(D23/(Frequenzen!D13^2*B6^2)*Frequenzen!D26^2*B7^2) -> 0 | E24: =(E23/(Frequenzen!D18^2*B6^2)*Frequenzen!D31^2*B7^2) -> 0 | F24: =SUM(B24:E24) -> 0
A25: Kraft ↓ auf Decke in daN (Ausgangswert) | B25: =(B23*SIN(B10*3.1415/180))/(SIN((90-B10)*3.1415/180)) -> 0 | C25: =(C23*SIN(C10*3.1415/180))/(SIN((90-C10)*3.1415/180)) -> 0 | D25: =(D23*SIN(D10*3.1415/180))/(SIN((90-D10)*3.1415/180)) -> 0 | E25: =(E23*SIN(E10*3.1415/180))/(SIN((90-E10)*3.1415/180)) -> 0 | F25: =SUM(B25:E25) -> 0
A26: Kraft ↓ auf Decke in daN (neuer Wert) | B26: =(E24*SIN(B10*3.1415/180))/(SIN((90-B10)*3.1415/180)) -> 0 | C26: =(D24*SIN(C10*3.1415/180))/(SIN((90-C10)*3.1415/180)) -> 0 | D26: =(C24*SIN(D10*3.1415/180))/(SIN((90-D10)*3.1415/180)) -> 0 | E26: =(B24*SIN(E10*3.1415/180))/(SIN((90-E10)*3.1415/180)) -> 0 | F26: =SUM(B26:E26) -> 0

Sheet Saitensätze
A1: ! Nutzung auf eigene Gefahr, alle Angaben ohne Gewähr !
A2: Abgerufen 12/2025 | B2: Zugkraft in daN
A3: Saitensatz | B3: B (C#) | C3: C Ext. | D3: E (F#) | E3: A (B) | F3: D (E) | G3: G (A) | H3: c | I3: Σ 4-S. | J3: Σ 5-S. | K3: Σ 4-S. Ext.
A5: Pirastro Flexocor (5/4) | B5: 30.3 | D5: 31.2 | E5: 32.1 | F5: 29.7 | G5: 31.5 | I5: =SUM(D5,E5,F5,G5) -> 124.5 | J5: =SUM(B5,D5,E5,F5,G5) -> 154.8 | L5: Pirastro gibt 5/4 Mensur mit 114 cm an.
A6: Pirastro Flexocor dünn (¾) | B6: 26.1 | D6: 27 | E6: 27.9 | F6: 27 | G6: 28.2 | I6: =SUM(D6,E6,F6,G6) -> 110.1 | J6: =SUM(B6,D6,E6,F6,G6) -> 136.2 | L6: Pirastro gibt ¾ Mensur mit 106 cm an.
A7: Pirastro Flexocor mittel (¾) | B7: 28.2 | C7: 29.7 | D7: 29.7 | E7: 30.6 | F7: 29.7 | G7: 29.4 | H7: 31.5 | I7: =SUM(D7,E7,F7,G7) -> 119.4 | J7: =SUM(B7,D7,E7,F7,G7) -> 147.6 | K7: =SUM(C7,E7,F7,G7) -> 119.4
A8: Pirastro Flexocor stark (¾) | B8: 30.9 | C8: 33.6 | D8: 33.6 | E8: 33 | F8: 33.6 | G8: 33.6 | I8: =SUM(D8,E8,F8,G8) -> 133.8 | J8: =SUM(B8,D8,E8,F8,G8) -> 164.7 | K8: =SUM(C8,E8,F8,G8) -> 133.8
A9: Pirastro Flexocor Solo (¾) | B9: 29.7 | D9: 29.7 | E9: 30.3 | F9: 27.6 | G9: 28.5 | I9: =SUM(D9,E9,F9,G9) -> 116.1 | J9: =SUM(B9,D9,E9,F9,G9) -> 145.8
A10: Pirastro Flexocor Deluxe (¾) | B10: 31.8 | C10: 32.1 | D10: 32.1 | E10: 32.4 | F10: 30 | G10: 28.5 | H10: 31.5 | I10: =SUM(D10,E10,F10,G10) -> 123 | J10: =SUM(B10,D10,E10,F10,G10) -> 154.8 | K10: =SUM(C10,E10,F10,G10) -> 123
A11: Pirastro Flexocor Deluxe Solo (¾) | B11: 32.4 | D11: 33 | E11: 32.4 | F11: 30.3 | G11: 29.4 | I11: =SUM(D11,E11,F11,G11) -> 125.1 | J11: =SUM(B11,D11,E11,F11,G11) -> 157.5
A12: Pirastro Flexocor Original (¾) | B12: 35.1 | C12: 33.9 | D12: 33.9 | E12: 32.1 | F12: 27.3 | G12: 26.4 | I12: =SUM(D12,E12,F12,G12) -> 119.7 | J12: =SUM(B12,D12,E12,F12,G12) -> 154.8 | K12: =SUM(C12,E12,F12,G12) -> 119.7
A13: Pirastro Original Flat Chrome (¾) | B13: 34.8 | C13: 33.6 | D13: 33.6 | E13: 31.8 | F13: 27 | G13: 26.1 | I13: =SUM(D13,E13,F13,G13) -> 118.5 | J13: =SUM(B13,D13,E13,F13,G13) -> 153.3 | K13: =SUM(C13,E13,F13,G13) -> 118.5
A14: Pirastro Original Flat Chrome Solo (¾) | B14: 32.7 | D14: 32.7 | E14: 28.5 | F14: 27.6 | G14: 32.7 | I14: =SUM(D14,E14,F14,G14) -> 121.5 | J14: =SUM(B14,D14,E14,F14,G14) -> 154.2
A15: Pirastro Flat Crome Steel (¾) | B15: 28.2 | C15: 28.2 | D15: 28.2 | E15: 28.5 | F15: 29.4 | G15: 32.7 | H15: 33 | I15: =SUM(D15,E15,F15,G15) -> 118.8 | J15: =SUM(B15,D15,E15,F15,G15) -> 147 | K15: =SUM(C15,E15,F15,G15) -> 118.8
A16: Pirastro Flat Crome Steel Solo (¾) | B16: 27.9 | D16: 29.4 | E16: 29.1 | F16: 28.8 | G16: 29.7 | I16: =SUM(D16,E16,F16,G16) -> 117 | J16: =SUM(B16,D16,E16,F16,G16) -> 144.9
A17: Pirastro Perpetual (¾) | B17: 30 | C17: 33.5 | D17: 28.6 | E17: 28.7 | F17: 26.4 | G17: 26.3 | I17: =SUM(D17,E17,F17,G17) -> 110 | J17: =SUM(B17,D17,E17,F17,G17) -> 140 | K17: =SUM(C17,E17,F17,G17) -> 114.9
A18: Pirastro Perpetual Stark (¾) | C18: 31.8 | D18: 29.4 | E18: 28.8 | F18: 26.9 | G18: 26.9 | I18: =SUM(D18,E18,F18,G18) -> 112 | K18: =SUM(C18,E18,F18,G18) -> 114.4
A19: Pirastro Perpetual Solo (¾) | D19: 31.5 | E19: 30.3 | F19: 28.5 | G19: 28.8 | I19: =SUM(D19,E19,F19,G19) -> 119.1
A20: Pirastro Permanent (¾) | B20: 31.2 | C20: 32.7 | D20: 32.7 | E20: 32.1 | F20: 30.6 | G20: 29.4 | H20: 31.8 | I20: =SUM(D20,E20,F20,G20) -> 124.8 | J20: =SUM(B20,D20,E20,F20,G20) -> 156 | K20: =SUM(C20,E20,F20,G20) -> 124.8
A21: Pirastro Permanent Solo (¾) | B21: 32.1 | D21: 33.9 | E21: 34.2 | F21: 30.6 | G21: 30.9 | I21: =SUM(D21,E21,F21,G21) -> 129.6 | J21: =SUM(B21,D21,E21,F21,G21) -> 161.7
A22: Pirastro Passione (¾) | B22: 30.9 | C22: 28.5 | D22: 28.5 | E22: 30.3 | F22: 28.8 | G22: 27.9 | H22: 30.9 | I22: =SUM(D22,E22,F22,G22) -> 115.5 | J22: =SUM(B22,D22,E22,F22,G22) -> 146.4 | K22: =SUM(C22,E22,F22,G22) -> 115.5
A23: Pirastro Passione Stark (¾) | B23: 32.1 | C23: 31.8 | D23: 31.8 | E23: 32.1 | F23: 28.8 | G23: 28.2 | I23: =SUM(D23,E23,F23,G23) -> 120.9 | J23: =SUM(B23,D23,E23,F23,G23) -> 153 | K23: =SUM(C23,E23,F23,G23) -> 120.9
A24: Pirastro Passione Solo (¾) | B24: 33 | D24: 30.9 | E24: 31.2 | F24: 30 | G24: 30.9 | I24: =SUM(D24,E24,F24,G24) -> 123 | J24: =SUM(B24,D24,E24,F24,G24) -> 156
A25: Pirastro Jazzer (¾) | B25: 30.6 | C25: 31.8 | D25: 31.8 | E25: 33.9 | F25: 27.6 | G25: 27.6 | H25: 30.9 | I25: =SUM(D25,E25,F25,G25) -> 120.9 | J25: =SUM(B25,D25,E25,F25,G25) -> 151.5 | K25: =SUM(C25,E25,F25,G25) -> 120.9
A26: Pirastro Obligato (¾) | B26: 33.6 | C26: 30.9 | D26: 30.9 | E26: 29.7 | F26: 28.2 | G26: 27 | H26: 28.2 | I26: =SUM(D26,E26,F26,G26) -> 115.8 | J26: =SUM(B26,D26,E26,F26,G26) -> 149.4 | K26: =SUM(C26,E26,F26,G26) -> 115.8
A27: Pirastro Obligato Solo (¾) | B27: 33.6 | D27: 31.5 | E27: 30.3 | F27: 28.2 | G27: 29.7 | I27: =SUM(D27,E27,F27,G27) -> 119.7 | J27: =SUM(B27,D27,E27,F27,G27) -> 153.3
A28: Pirastro Evah Pirazzi mittel (¾) | B28: 32.1 | C28: 31.8 | D28: 30.6 | E28: 31.5 | F28: 29.1 | G28: 29.1 | H28: 33.9 | I28: =SUM(D28,E28,F28,G28) -> 120.3 | J28: =SUM(B28,D28,E28,F28,G28) -> 152.4 | K28: =SUM(C28,E28,F28,G28) -> 121.5
A29: Pirastro Evah Pirazzi weich (¾) | B29: 30.9 | C29: 29.4 | D29: 28.5 | E29: 29.1 | F29: 27.3 | G29: 26.4 | I29: =SUM(D29,E29,F29,G29) -> 111.3 | J29: =SUM(B29,D29,E29,F29,G29) -> 142.2 | K29: =SUM(C29,E29,F29,G29) -> 112.2
A30: Pirastro Evah Pirazzi Solo (¾) | B30: 32.1 | D30: 33.9 | E30: 33 | F30: 29.4 | G30: 31.5 | I30: =SUM(D30,E30,F30,G30) -> 127.8 | J30: =SUM(B30,D30,E30,F30,G30) -> 159.9
A31: Pirastro Evah Pirazzi gold (synth.) (¾) | D31: 20.7 | E31: 21.6 | F31: 20.1 | G31: 21.6 | I31: =SUM(D31,E31,F31,G31) -> 84
A32: Pirastro Evah Pirazzi gold (darm) (¾) | D32: 20.7 | E32: 21.6 | F32: 18 | G32: 20.4 | I32: =SUM(D32,E32,F32,G32) -> 80.7
A33: Pirastro Eudoxa (¾) | B33: 26.7 | D33: 27 | E33: 29.7 | F33: 28.8 | G33: 28.8 | H33: 27.6 | I33: =SUM(D33,E33,F33,G33) -> 114.3 | J33: =SUM(B33,D33,E33,F33,G33) -> 141
A34: Pirastro Oliv (¾) | B34: 20 | D34: 28.5 | E34: 27.9 | F34: 25.5 | G34: 26.1 | H34: 27.6 | I34: =SUM(D34,E34,F34,G34) -> 108 | J34: =SUM(B34,D34,E34,F34,G34) -> 128
A35: Pirastro Chorda (¾) | D35: 33.3 | E35: 27.3 | F35: 19.2 | G35: 22.8 | I35: =SUM(D35,E35,F35,G35) -> 102.6
A36: Thomastik Peter Infeld (¾) | B36: 30.7 | C36: 32.8 | D36: 30.5 | E36: 29.3 | F36: 29.3 | G36: 28.8 | I36: =SUM(D36,E36,F36,G36) -> 117.9 | J36: =SUM(B36,D36,E36,F36,G36) -> 148.6 | K36: =SUM(C36,E36,F36,G36) -> 120.2 | L36: Thomastik gibt die ¾ Mensur mit 104 cm an.
A37: Thomastik Spirocore weich (4/4) | C37: 33 | D37: 31 | E37: 30 | F37: 29 | G37: 27.7 | I37: =SUM(D37,E37,F37,G37) -> 117.7 | K37: =SUM(C37,E37,F37,G37) -> 119.7 | L37: Thomastik gibt die 4/4 Mensur mit 110 cm an.
A38: Thomastik Spirocore mittel (4/4) | B38: 35 | C38: 38 | D38: 34 | E38: 34 | F38: 32 | G38: 30 | H38: 30 | I38: =SUM(D38,E38,F38,G38) -> 130 | J38: =SUM(B38,D38,E38,F38,G38) -> 165 | K38: =SUM(C38,E38,F38,G38) -> 134
A39: Thomastik Spirocore stark (4/4) | D39: 38 | E39: 37 | F39: 36 | G39: 36 | I39: =SUM(D39,E39,F39,G39) -> 147
A40: Thomastik Spirocore weich (¾) | D40: 30 | E40: 29 | F40: 28 | G40: 27.5 | I40: =SUM(D40,E40,F40,G40) -> 114.5
A41: Thomastik Spirocore mittel (¾) | B41: 32 | D41: 33 | E41: 32 | F41: 31 | G41: 30.5 | I41: =SUM(D41,E41,F41,G41) -> 126.5 | J41: =SUM(B41,D41,E41,F41,G41) -> 158.5
...

Sheet Frequenzen
A1: Frequenzen der Töne in gleichstufig temperierter Stimmung
A3: F(i)=F(0)*2^(i/12)
A5: Kammerton (H) in Hz (1/s): | C5: =Kräfte!B4 -> 440
A6: Kammerton (E) in Hz (1/s): | C6: =Kräfte!B5 -> 440
A8: B² | B8: =H20/16 -> 30.867706
A9: C¹ | B9: =H9/8 -> 32.703196 | C9: C | D9: =H9/4 -> 65.406391 | E9: c | F9: =H9/2 -> 130.81278 | G9: c’ | H9: =H18*2^(-9/12) -> 261.62557
A10: C#¹ | B10: =H10/8 -> 34.647829 | C10: C# | D10: =H10/4 -> 69.295658 | E10: c# | F10: =H10/2 -> 138.59132 | G10: c#‘ | H10: =H18*2^(-8/12) -> 277.18263
A11: D¹ | B11: =H11/8 -> 36.708096 | C11: D | D11: =H11/4 -> 73.416192 | E11: d | F11: =H11/2 -> 146.83238 | G11: d’ | H11: =H18*2^(-7/12) -> 293.66477
A12: D#¹ | B12: =H12/8 -> 38.890873 | C12: D# | D12: =H12/4 -> 77.781746 | E12: d# | F12: =H12/2 -> 155.56349 | G12: d#‘ | H12: =H18*2^(-6/12) -> 311.12698
A13: E¹ | B13: =H13/8 -> 41.203445 | C13: E | D13: =H13/4 -> 82.406889 | E13: e | F13: =H13/2 -> 164.81378 | G13: e’ | H13: =H18*2^(-5/12) -> 329.62756
A14: F¹ | B14: =H14/8 -> 43.653529 | C14: F | D14: =H14/4 -> 87.307058 | E14: f | F14: =H14/2 -> 174.61412 | G14: f’ | H14: =H18*2^(-4/12) -> 349.22823
A15: F#¹ | B15: =H15/8 -> 46.249303 | C15: F# | D15: =H15/4 -> 92.498606 | E15: f# | F15: =H15/2 -> 184.99721 | G15: f#‘ | H15: =H18*2^(-3/12) -> 369.99442
A16: G¹ | B16: =H16/8 -> 48.999429 | C16: G | D16: =H16/4 -> 97.998859 | E16: g | F16: =H16/2 -> 195.99772 | G16: g’ | H16: =H18*2^(-2/12) -> 391.99544
A17: G#¹ | B17: =H17/8 -> 51.913087 | C17: G# | D17: =H17/4 -> 103.82617 | E17: g# | F17: =H17/2 -> 207.65235 | G17: g#‘ | H17: =H18*2^(-1/12) -> 415.3047
A18: A¹ | B18: =H18/8 -> 55 | C18: A | D18: =H18/4 -> 110 | E18: a | F18: =H18/2 -> 220 | G18: a’ | H18: =C5 -> 440
A19: A#¹ | B19: =H19/8 -> 58.27047 | C19: A# | D19: =H19/4 -> 116.54094 | E19: a# | F19: =H19/2 -> 233.08188 | G19: a#‘ | H19: =H18*2^(1/12) -> 466.16376
A20: B¹ | B20: =H20/8 -> 61.735413 | C20: B | D20: =H20/4 -> 123.47083 | E20: b | F20: =H20/2 -> 246.94165 | G20: b’ | H20: =H18*2^(2/12) -> 493.8833
A23: B² | B23: =H35/16 -> 30.867706
A24: C¹ | B24: =H24/8 -> 32.703196 | C24: C | D24: =H24/4 -> 65.406391 | E24: c | F24: =H24/2 -> 130.81278 | G24: c’ | H24: =H33*2^(-9/12) -> 261.62557
A25: C#¹ | B25: =H25/8 -> 34.647829 | C25: C# | D25: =H25/4 -> 69.295658 | E25: c# | F25: =H25/2 -> 138.59132 | G25: c#‘ | H25: =H33*2^(-8/12) -> 277.18263
A26: D¹ | B26: =H26/8 -> 36.708096 | C26: D | D26: =H26/4 -> 73.416192 | E26: d | F26: =H26/2 -> 146.83238 | G26: d’ | H26: =H33*2^(-7/12) -> 293.66477
A27: D#¹ | B27: =H27/8 -> 38.890873 | C27: D# | D27: =H27/4 -> 77.781746 | E27: d# | F27: =H27/2 -> 155.56349 | G27: d#‘ | H27: =H33*2^(-6/12) -> 311.12698
A28: E¹ | B28: =H28/8 -> 41.203445 | C28: E | D28: =H28/4 -> 82.406889 | E28: e | F28: =H28/2 -> 164.81378 | G28: e’ | H28: =H33*2^(-5/12) -> 329.62756
A29: F¹ | B29: =H29/8 -> 43.653529 | C29: F | D29: =H29/4 -> 87.307058 | E29: f | F29: =H29/2 -> 174.61412 | G29: f’ | H29: =H33*2^(-4/12) -> 349.22823
A30: F#¹ | B30: =H30/8 -> 46.249303 | C30: F# | D30: =H30/4 -> 92.498606 | E30: f# | F30: =H30/2 -> 184.99721 | G30: f#‘ | H30: =H33*2^(-3/12) -> 369.99442
A31: G¹ | B31: =H31/8 -> 48.999429 | C31: G | D31: =H31/4 -> 97.998859 | E31: g | F31: =H31/2 -> 195.99772 | G31: g’ | H31: =H33*2^(-2/12) -> 391.99544
A32: G#¹ | B32: =H32/8 -> 51.913087 | C32: G# | D32: =H32/4 -> 103.82617 | E32: g# | F32: =H32/2 -> 207.65235 | G32: g#‘ | H32: =H33*2^(-1/12) -> 415.3047
A33: A¹ | B33: =H33/8 -> 55 | C33: A | D33: =H33/4 -> 110 | E33: a | F33: =H33/2 -> 220 | G33: a’ | H33: =C6 -> 440
A34: A#¹ | B34: =H34/8 -> 58.27047 | C34: A# | D34: =H34/4 -> 116.54094 | E34: a# | F34: =H34/2 -> 233.08188 | G34: a#‘ | H34: =H33*2^(1/12) -> 466.16376
A35: B¹ | B35: =H35/8 -> 61.735413 | C35: B | D35: =H35/4 -> 123.47083 | E35: b | F35: =H35/2 -> 246.94165 | G35: b’ | H35: =H33*2^(2/12) -> 493.8833
